Package: TRESS Version: 1.11.0 Command: chmod a+r TRESS -R && C:\Users\biocbuild\bbs-3.20-bioc\R\bin\R.exe CMD build --keep-empty-dirs --no-resave-data TRESS StartedAt: 2024-07-15 21:19:45 -0400 (Mon, 15 Jul 2024) EndedAt: 2024-07-15 21:19:48 -0400 (Mon, 15 Jul 2024) EllapsedTime: 3.0 seconds RetCode: 0 Status: OK PackageFile: TRESS_1.11.0.tar.gz PackageFileSize: 483.8 KiB