Package: TRESS Version: 1.12.0 Command: /Library/Frameworks/R.framework/Resources/bin/R CMD check --install=check:TRESS.install-out.txt --library=/Library/Frameworks/R.framework/Resources/library --no-vignettes --timings TRESS_1.12.0.tar.gz StartedAt: 2025-02-01 12:35:13 -0500 (Sat, 01 Feb 2025) EndedAt: 2025-02-01 12:40:38 -0500 (Sat, 01 Feb 2025) EllapsedTime: 324.6 seconds RetCode: 0 Status: OK CheckDir: TRESS.Rcheck Warnings: 0