Package: TMixClust Version: 1.28.0 Command: rm -rf TMixClust.buildbin-libdir && mkdir TMixClust.buildbin-libdir && F:\biocbuild\bbs-3.20-bioc\R\bin\R.exe CMD INSTALL --build --library=TMixClust.buildbin-libdir TMixClust_1.28.0.tar.gz StartedAt: 2025-01-31 09:47:38 -0500 (Fri, 31 Jan 2025) EndedAt: 2025-01-31 09:47:56 -0500 (Fri, 31 Jan 2025) EllapsedTime: 18.5 seconds RetCode: 0 Status: OK PackageFile: TMixClust_1.28.0.zip PackageFileSize: 745.4 KiB