Package: TIN Version: 1.38.0 Command: /home/biocbuild/R/R/bin/R CMD check --install=check:TIN.install-out.txt --library=/home/biocbuild/R/R/site-library --no-vignettes --timings TIN_1.38.0.tar.gz StartedAt: 2025-01-31 11:05:58 -0000 (Fri, 31 Jan 2025) EndedAt: 2025-01-31 11:09:46 -0000 (Fri, 31 Jan 2025) EllapsedTime: 228.3 seconds RetCode: 0 Status: OK CheckDir: TIN.Rcheck Warnings: 0