Package: TIN Version: 1.38.0 Command: /home/biocbuild/bbs-3.20-bioc/R/bin/R CMD INSTALL TIN StartedAt: 2025-01-30 15:42:01 -0500 (Thu, 30 Jan 2025) EndedAt: 2025-01-30 15:42:27 -0500 (Thu, 30 Jan 2025) EllapsedTime: 26.2 seconds RetCode: 0 Status: OK