Package: TFutils Version: 1.26.0 Command: /Library/Frameworks/R.framework/Resources/bin/R CMD build --keep-empty-dirs --no-resave-data TFutils StartedAt: 2025-01-30 23:24:33 -0500 (Thu, 30 Jan 2025) EndedAt: 2025-01-30 23:27:24 -0500 (Thu, 30 Jan 2025) EllapsedTime: 171.1 seconds RetCode: 0 Status: OK PackageFile: TFutils_1.26.0.tar.gz PackageFileSize: 6.013 MiB