Package: TFutils Version: 1.26.0 Command: rm -rf TFutils.buildbin-libdir && mkdir TFutils.buildbin-libdir && /Users/biocbuild/BBS/utils/build-universal.sh TFutils_1.26.0.tar.gz /Library/Frameworks/R.framework/Resources/bin/R TFutils.buildbin-libdir StartedAt: 2025-01-31 13:50:46 -0500 (Fri, 31 Jan 2025) EndedAt: 2025-01-31 13:51:57 -0500 (Fri, 31 Jan 2025) EllapsedTime: 70.6 seconds RetCode: 0 Status: OK PackageFile: TFutils_1.26.0.tgz PackageFileSize: 6.381 MiB