Package: TEKRABber Version: 1.10.0 Command: /Library/Frameworks/R.framework/Resources/bin/R CMD INSTALL TEKRABber StartedAt: 2025-01-30 16:23:59 -0500 (Thu, 30 Jan 2025) EndedAt: 2025-01-30 16:24:44 -0500 (Thu, 30 Jan 2025) EllapsedTime: 45.6 seconds RetCode: 0 Status: OK