Package: TDbasedUFE Version: 1.6.0 Command: F:\biocbuild\bbs-3.20-bioc\R\bin\R.exe CMD INSTALL TDbasedUFE StartedAt: 2025-01-30 15:52:55 -0500 (Thu, 30 Jan 2025) EndedAt: 2025-01-30 15:53:20 -0500 (Thu, 30 Jan 2025) EllapsedTime: 24.1 seconds RetCode: 0 Status: OK