Package: TDbasedUFE Version: 1.6.0 Command: F:\biocbuild\bbs-3.20-bioc\R\bin\R.exe CMD check --no-multiarch --install=check:TDbasedUFE.install-out.txt --library=F:\biocbuild\bbs-3.20-bioc\R\library --no-vignettes --timings TDbasedUFE_1.6.0.tar.gz StartedAt: 2025-01-31 07:09:49 -0500 (Fri, 31 Jan 2025) EndedAt: 2025-01-31 07:12:00 -0500 (Fri, 31 Jan 2025) EllapsedTime: 131.5 seconds RetCode: 0 Status: OK CheckDir: TDbasedUFE.Rcheck Warnings: 0