Package: TADCompare Version: 1.16.0 Command: /home/biocbuild/R/R/bin/R CMD check --install=check:TADCompare.install-out.txt --library=/home/biocbuild/R/R/site-library --no-vignettes --timings TADCompare_1.16.0.tar.gz StartedAt: 2025-01-31 10:57:04 -0000 (Fri, 31 Jan 2025) EndedAt: 2025-01-31 11:00:31 -0000 (Fri, 31 Jan 2025) EllapsedTime: 206.3 seconds RetCode: 0 Status: OK CheckDir: TADCompare.Rcheck Warnings: 0