Package: SwathXtend Version: 2.28.0 Command: F:\biocbuild\bbs-3.20-bioc\R\bin\R.exe CMD INSTALL SwathXtend StartedAt: 2025-01-30 16:52:06 -0500 (Thu, 30 Jan 2025) EndedAt: 2025-01-30 16:52:25 -0500 (Thu, 30 Jan 2025) EllapsedTime: 19.3 seconds RetCode: 0 Status: OK