Package: SummarizedExperiment Version: 1.36.0 Command: F:\biocbuild\bbs-3.20-bioc\R\bin\R.exe CMD INSTALL SummarizedExperiment StartedAt: 2025-01-30 15:46:25 -0500 (Thu, 30 Jan 2025) EndedAt: 2025-01-30 15:54:57 -0500 (Thu, 30 Jan 2025) EllapsedTime: 512.0 seconds RetCode: 0 Status: OK