Package: SubCellBarCode Version: 1.22.0 Command: rm -rf SubCellBarCode.buildbin-libdir && mkdir SubCellBarCode.buildbin-libdir && /Users/biocbuild/BBS/utils/build-universal.sh SubCellBarCode_1.22.0.tar.gz /Library/Frameworks/R.framework/Resources/bin/R SubCellBarCode.buildbin-libdir StartedAt: 2025-01-31 13:48:42 -0500 (Fri, 31 Jan 2025) EndedAt: 2025-01-31 13:49:33 -0500 (Fri, 31 Jan 2025) EllapsedTime: 51.4 seconds RetCode: 0 Status: OK PackageFile: SubCellBarCode_1.22.0.tgz PackageFileSize: 2.781 MiB