Package: StructuralVariantAnnotation Version: 1.22.0 Command: /home/biocbuild/R/R/bin/R CMD check --install=check:StructuralVariantAnnotation.install-out.txt --library=/home/biocbuild/R/R/site-library --no-vignettes --timings StructuralVariantAnnotation_1.22.0.tar.gz StartedAt: 2025-01-31 10:50:58 -0000 (Fri, 31 Jan 2025) EndedAt: 2025-01-31 11:00:39 -0000 (Fri, 31 Jan 2025) EllapsedTime: 580.8 seconds RetCode: 0 Status: OK CheckDir: StructuralVariantAnnotation.Rcheck Warnings: 0