Package: StructuralVariantAnnotation Version: 1.22.0 Command: /home/biocbuild/bbs-3.20-bioc/R/bin/R CMD INSTALL StructuralVariantAnnotation StartedAt: 2025-01-30 15:23:53 -0500 (Thu, 30 Jan 2025) EndedAt: 2025-01-30 15:24:36 -0500 (Thu, 30 Jan 2025) EllapsedTime: 43.4 seconds RetCode: 0 Status: OK