Package: Statial Version: 1.8.0 Command: /home/biocbuild/bbs-3.20-bioc/R/bin/R CMD build --keep-empty-dirs --no-resave-data --md5 Statial StartedAt: 2025-01-30 19:22:02 -0500 (Thu, 30 Jan 2025) EndedAt: 2025-01-30 19:27:39 -0500 (Thu, 30 Jan 2025) EllapsedTime: 336.7 seconds RetCode: 0 Status: OK PackageFile: Statial_1.8.0.tar.gz PackageFileSize: 9.201 MiB