Package: StabMap Version: 1.0.0 Command: rm -rf StabMap.buildbin-libdir && mkdir StabMap.buildbin-libdir && F:\biocbuild\bbs-3.20-bioc\R\bin\R.exe CMD INSTALL --build --library=StabMap.buildbin-libdir StabMap_1.0.0.tar.gz StartedAt: 2025-01-31 09:43:47 -0500 (Fri, 31 Jan 2025) EndedAt: 2025-01-31 09:44:18 -0500 (Fri, 31 Jan 2025) EllapsedTime: 31.5 seconds RetCode: 0 Status: OK PackageFile: StabMap_1.0.0.zip PackageFileSize: 1.362 MiB