Package: StabMap Version: 1.0.0 Command: /home/biocbuild/bbs-3.20-bioc/R/bin/R CMD check --install=check:StabMap.install-out.txt --library=/home/biocbuild/bbs-3.20-bioc/R/site-library --timings StabMap_1.0.0.tar.gz StartedAt: 2025-01-31 02:46:29 -0500 (Fri, 31 Jan 2025) EndedAt: 2025-01-31 02:54:41 -0500 (Fri, 31 Jan 2025) EllapsedTime: 492.6 seconds RetCode: 0 Status: OK CheckDir: StabMap.Rcheck Warnings: 0