Package: StabMap Version: 1.0.0 Command: /Library/Frameworks/R.framework/Resources/bin/R CMD build --keep-empty-dirs --no-resave-data StabMap StartedAt: 2025-01-30 23:14:17 -0500 (Thu, 30 Jan 2025) EndedAt: 2025-01-30 23:24:33 -0500 (Thu, 30 Jan 2025) EllapsedTime: 616.5 seconds RetCode: 0 Status: OK PackageFile: StabMap_1.0.0.tar.gz PackageFileSize: 2.084 MiB