Package: SpotClean Version: 1.8.0 Command: /home/biocbuild/R/R/bin/R CMD check --install=check:SpotClean.install-out.txt --library=/home/biocbuild/R/R/site-library --no-vignettes --timings SpotClean_1.8.0.tar.gz StartedAt: 2025-01-31 10:43:18 -0000 (Fri, 31 Jan 2025) EndedAt: 2025-01-31 10:52:06 -0000 (Fri, 31 Jan 2025) EllapsedTime: 527.6 seconds RetCode: 0 Status: OK CheckDir: SpotClean.Rcheck Warnings: 0