Package: SpotClean Version: 1.8.0 Command: /home/biocbuild/R/R/bin/R CMD build --keep-empty-dirs --no-resave-data SpotClean StartedAt: 2025-01-31 02:57:34 -0000 (Fri, 31 Jan 2025) EndedAt: 2025-01-31 03:00:33 -0000 (Fri, 31 Jan 2025) EllapsedTime: 179.1 seconds RetCode: 0 Status: OK PackageFile: SpotClean_1.8.0.tar.gz PackageFileSize: 2.26 MiB