Package: SplicingFactory Version: 1.14.0 Command: rm -rf SplicingFactory.buildbin-libdir && mkdir SplicingFactory.buildbin-libdir && /Users/biocbuild/BBS/utils/build-universal.sh SplicingFactory_1.14.0.tar.gz /Library/Frameworks/R.framework/Resources/bin/R SplicingFactory.buildbin-libdir StartedAt: 2025-01-31 13:46:57 -0500 (Fri, 31 Jan 2025) EndedAt: 2025-01-31 13:47:41 -0500 (Fri, 31 Jan 2025) EllapsedTime: 43.7 seconds RetCode: 0 Status: OK PackageFile: SplicingFactory_1.14.0.tgz PackageFileSize: 827.7 KiB