Package: SplicingFactory Version: 1.14.0 Command: /Library/Frameworks/R.framework/Resources/bin/R CMD check --install=check:SplicingFactory.install-out.txt --library=/Library/Frameworks/R.framework/Resources/library --no-vignettes --timings SplicingFactory_1.14.0.tar.gz StartedAt: 2025-02-01 10:37:11 -0500 (Sat, 01 Feb 2025) EndedAt: 2025-02-01 10:40:02 -0500 (Sat, 01 Feb 2025) EllapsedTime: 170.5 seconds RetCode: 0 Status: OK CheckDir: SplicingFactory.Rcheck Warnings: 0