Package: SpliceWiz Version: 1.8.0 Command: F:\biocbuild\bbs-3.20-bioc\R\bin\R.exe CMD INSTALL SpliceWiz StartedAt: 2025-01-30 16:49:32 -0500 (Thu, 30 Jan 2025) EndedAt: 2025-01-30 16:52:48 -0500 (Thu, 30 Jan 2025) EllapsedTime: 195.9 seconds RetCode: 0 Status: OK