Package: SpliceWiz Version: 1.8.0 Command: /Library/Frameworks/R.framework/Resources/bin/R CMD INSTALL SpliceWiz StartedAt: 2025-01-30 16:37:52 -0500 (Thu, 30 Jan 2025) EndedAt: 2025-01-30 16:41:53 -0500 (Thu, 30 Jan 2025) EllapsedTime: 241.4 seconds RetCode: 0 Status: OK