Package: SpliceWiz Version: 1.8.0 Command: /Library/Frameworks/R.framework/Resources/bin/R CMD check --install=check:SpliceWiz.install-out.txt --library=/Library/Frameworks/R.framework/Resources/library --no-vignettes --timings SpliceWiz_1.8.0.tar.gz StartedAt: 2025-01-31 10:35:08 -0500 (Fri, 31 Jan 2025) EndedAt: 2025-01-31 11:08:35 -0500 (Fri, 31 Jan 2025) EllapsedTime: 2007.2 seconds RetCode: 0 Status: OK CheckDir: SpliceWiz.Rcheck Warnings: 0