Package: Spectra Version: 1.16.0 Command: /home/biocbuild/R/R/bin/R CMD build --keep-empty-dirs --no-resave-data Spectra StartedAt: 2025-01-31 02:55:11 -0000 (Fri, 31 Jan 2025) EndedAt: 2025-01-31 02:56:20 -0000 (Fri, 31 Jan 2025) EllapsedTime: 69.1 seconds RetCode: 0 Status: OK PackageFile: Spectra_1.16.0.tar.gz PackageFileSize: 1.643 MiB