Package: SpatialOmicsOverlay Version: 1.6.0 Command: F:\biocbuild\bbs-3.20-bioc\R\bin\R.exe CMD check --no-multiarch --install=check:SpatialOmicsOverlay.install-out.txt --library=F:\biocbuild\bbs-3.20-bioc\R\library --no-vignettes --timings SpatialOmicsOverlay_1.6.0.tar.gz StartedAt: 2025-01-31 06:44:04 -0500 (Fri, 31 Jan 2025) EndedAt: 2025-01-31 06:54:35 -0500 (Fri, 31 Jan 2025) EllapsedTime: 631.0 seconds RetCode: 0 Status: OK CheckDir: SpatialOmicsOverlay.Rcheck Warnings: 0