Package: SpatialFeatureExperiment Version: 1.8.6 Command: /home/biocbuild/R/R/bin/R CMD INSTALL SpatialFeatureExperiment StartedAt: 2025-01-30 20:52:41 -0000 (Thu, 30 Jan 2025) EndedAt: 2025-01-30 20:52:41 -0000 (Thu, 30 Jan 2025) EllapsedTime: 0.4 seconds RetCode: 1 Status: ERROR