Package: SpatialFeatureExperiment Version: 1.8.6 Command: F:\biocbuild\bbs-3.20-bioc\R\bin\R.exe CMD check --no-multiarch --install=check:SpatialFeatureExperiment.install-out.txt --library=F:\biocbuild\bbs-3.20-bioc\R\library --no-vignettes --timings SpatialFeatureExperiment_1.8.6.tar.gz StartedAt: 2025-01-31 06:43:53 -0500 (Fri, 31 Jan 2025) EndedAt: 2025-01-31 07:09:18 -0500 (Fri, 31 Jan 2025) EllapsedTime: 1525.7 seconds RetCode: 0 Status: OK CheckDir: SpatialFeatureExperiment.Rcheck Warnings: 0