Package: SpatialFeatureExperiment Version: 1.8.6 Command: chmod a+r SpatialFeatureExperiment -R && F:\biocbuild\bbs-3.20-bioc\R\bin\R.exe CMD build --keep-empty-dirs --no-resave-data SpatialFeatureExperiment StartedAt: 2025-01-30 22:01:17 -0500 (Thu, 30 Jan 2025) EndedAt: 2025-01-30 22:06:28 -0500 (Thu, 30 Jan 2025) EllapsedTime: 310.4 seconds RetCode: 0 Status: OK PackageFile: SpatialFeatureExperiment_1.8.6.tar.gz PackageFileSize: 1.584 MiB