Package: SpatialExperiment Version: 1.16.0 Command: chmod a+r SpatialExperiment -R && F:\biocbuild\bbs-3.20-bioc\R\bin\R.exe CMD build --keep-empty-dirs --no-resave-data SpatialExperiment StartedAt: 2025-01-30 22:01:02 -0500 (Thu, 30 Jan 2025) EndedAt: 2025-01-30 22:02:31 -0500 (Thu, 30 Jan 2025) EllapsedTime: 89.1 seconds RetCode: 0 Status: OK PackageFile: SpatialExperiment_1.16.0.tar.gz PackageFileSize: 5.24 MiB