Package: SpatialDecon Version: 1.16.0 Command: rm -rf SpatialDecon.buildbin-libdir && mkdir SpatialDecon.buildbin-libdir && F:\biocbuild\bbs-3.20-bioc\R\bin\R.exe CMD INSTALL --build --library=SpatialDecon.buildbin-libdir SpatialDecon_1.16.0.tar.gz StartedAt: 2025-01-31 09:41:24 -0500 (Fri, 31 Jan 2025) EndedAt: 2025-01-31 09:42:14 -0500 (Fri, 31 Jan 2025) EllapsedTime: 50.3 seconds RetCode: 0 Status: OK PackageFile: SpatialDecon_1.16.0.zip PackageFileSize: 3.356 MiB