Package: SpatialDecon Version: 1.16.0 Command: /home/biocbuild/bbs-3.20-bioc/R/bin/R CMD INSTALL SpatialDecon StartedAt: 2025-01-30 15:32:59 -0500 (Thu, 30 Jan 2025) EndedAt: 2025-01-30 15:33:24 -0500 (Thu, 30 Jan 2025) EllapsedTime: 24.6 seconds RetCode: 0 Status: OK