Package: SpatialDecon Version: 1.16.0 Command: /home/biocbuild/bbs-3.20-bioc/R/bin/R CMD check --install=check:SpatialDecon.install-out.txt --library=/home/biocbuild/bbs-3.20-bioc/R/site-library --timings SpatialDecon_1.16.0.tar.gz StartedAt: 2025-01-31 02:32:57 -0500 (Fri, 31 Jan 2025) EndedAt: 2025-01-31 02:43:41 -0500 (Fri, 31 Jan 2025) EllapsedTime: 643.6 seconds RetCode: 0 Status: OK CheckDir: SpatialDecon.Rcheck Warnings: 0