Package: SpatialDecon Version: 1.16.0 Command: /home/biocbuild/bbs-3.20-bioc/R/bin/R CMD build --keep-empty-dirs --no-resave-data --md5 SpatialDecon StartedAt: 2025-01-30 19:16:03 -0500 (Thu, 30 Jan 2025) EndedAt: 2025-01-30 19:18:21 -0500 (Thu, 30 Jan 2025) EllapsedTime: 138.1 seconds RetCode: 0 Status: OK PackageFile: SpatialDecon_1.16.0.tar.gz PackageFileSize: 5.112 MiB