Package: SpatialCPie Version: 1.22.0 Command: chmod a+r SpatialCPie -R && F:\biocbuild\bbs-3.20-bioc\R\bin\R.exe CMD build --keep-empty-dirs --no-resave-data SpatialCPie StartedAt: 2025-01-30 22:00:43 -0500 (Thu, 30 Jan 2025) EndedAt: 2025-01-30 22:01:53 -0500 (Thu, 30 Jan 2025) EllapsedTime: 70.1 seconds RetCode: 0 Status: OK PackageFile: SpatialCPie_1.22.0.tar.gz PackageFileSize: 1011 KiB