Package: SparseSignatures Version: 2.16.0 Command: /Library/Frameworks/R.framework/Resources/bin/R CMD INSTALL SparseSignatures StartedAt: 2025-01-30 15:49:13 -0500 (Thu, 30 Jan 2025) EndedAt: 2025-01-30 15:50:35 -0500 (Thu, 30 Jan 2025) EllapsedTime: 81.3 seconds RetCode: 0 Status: OK