Package: SparseSignatures Version: 2.16.0 Command: /Library/Frameworks/R.framework/Resources/bin/R CMD check --install=check:SparseSignatures.install-out.txt --library=/Library/Frameworks/R.framework/Resources/library --no-vignettes --timings SparseSignatures_2.16.0.tar.gz StartedAt: 2025-01-31 10:25:45 -0500 (Fri, 31 Jan 2025) EndedAt: 2025-01-31 10:54:04 -0500 (Fri, 31 Jan 2025) EllapsedTime: 1698.5 seconds RetCode: 0 Status: OK CheckDir: SparseSignatures.Rcheck Warnings: 0