Package: SparseArray Version: 1.6.1 Command: /home/biocbuild/R/R/bin/R CMD INSTALL SparseArray StartedAt: 2025-01-30 20:11:18 -0000 (Thu, 30 Jan 2025) EndedAt: 2025-01-30 20:12:08 -0000 (Thu, 30 Jan 2025) EllapsedTime: 50.1 seconds RetCode: 0 Status: OK