Package: SparseArray Version: 1.6.1 Command: /Library/Frameworks/R.framework/Resources/bin/R CMD build --keep-empty-dirs --no-resave-data SparseArray StartedAt: 2025-01-31 08:30:58 -0500 (Fri, 31 Jan 2025) EndedAt: 2025-01-31 08:32:08 -0500 (Fri, 31 Jan 2025) EllapsedTime: 70.6 seconds RetCode: 0 Status: OK PackageFile: SparseArray_1.6.1.tar.gz PackageFileSize: 452.7 KiB