Package: SpaNorm Version: 1.0.0 Command: /Library/Frameworks/R.framework/Resources/bin/R CMD build --keep-empty-dirs --no-resave-data SpaNorm StartedAt: 2025-01-31 08:29:44 -0500 (Fri, 31 Jan 2025) EndedAt: 2025-01-31 08:37:22 -0500 (Fri, 31 Jan 2025) EllapsedTime: 457.8 seconds RetCode: 0 Status: OK PackageFile: SpaNorm_1.0.0.tar.gz PackageFileSize: 7.477 MiB