Package: SingleR Version: 2.8.0 Command: /home/biocbuild/R/R/bin/R CMD check --install=check:SingleR.install-out.txt --library=/home/biocbuild/R/R/site-library --no-vignettes --timings SingleR_2.8.0.tar.gz StartedAt: 2025-01-31 10:30:06 -0000 (Fri, 31 Jan 2025) EndedAt: 2025-01-31 10:36:11 -0000 (Fri, 31 Jan 2025) EllapsedTime: 365.3 seconds RetCode: 0 Status: OK CheckDir: SingleR.Rcheck Warnings: 0