Package: SingleR Version: 2.8.0 Command: rm -rf SingleR.buildbin-libdir && mkdir SingleR.buildbin-libdir && /Users/biocbuild/BBS/utils/build-universal.sh SingleR_2.8.0.tar.gz /Library/Frameworks/R.framework/Resources/bin/R SingleR.buildbin-libdir StartedAt: 2024-11-09 17:12:46 -0500 (Sat, 09 Nov 2024) EndedAt: 2024-11-09 17:13:07 -0500 (Sat, 09 Nov 2024) EllapsedTime: 20.3 seconds RetCode: 0 Status: OK PackageFile: SingleR_2.8.0.tgz PackageFileSize: 966.2 KiB