Package: SingleMoleculeFootprinting Version: 2.0.0 Command: chmod a+r SingleMoleculeFootprinting -R && F:\biocbuild\bbs-3.20-bioc\R\bin\R.exe CMD build --keep-empty-dirs --no-resave-data SingleMoleculeFootprinting StartedAt: 2025-01-30 21:55:48 -0500 (Thu, 30 Jan 2025) EndedAt: 2025-01-30 21:59:35 -0500 (Thu, 30 Jan 2025) EllapsedTime: 226.8 seconds RetCode: 0 Status: OK PackageFile: SingleMoleculeFootprinting_2.0.0.tar.gz PackageFileSize: 3.047 MiB