Package: SingleCellSignalR Version: 1.18.0 Command: chmod a+r SingleCellSignalR -R && F:\biocbuild\bbs-3.20-bioc\R\bin\R.exe CMD build --keep-empty-dirs --no-resave-data SingleCellSignalR StartedAt: 2025-01-30 21:55:44 -0500 (Thu, 30 Jan 2025) EndedAt: 2025-01-30 21:57:42 -0500 (Thu, 30 Jan 2025) EllapsedTime: 118.4 seconds RetCode: 0 Status: OK PackageFile: SingleCellSignalR_1.18.0.tar.gz PackageFileSize: 3.991 MiB