Package: SingleCellSignalR Version: 1.18.0 Command: rm -rf SingleCellSignalR.buildbin-libdir && mkdir SingleCellSignalR.buildbin-libdir && F:\biocbuild\bbs-3.20-bioc\R\bin\R.exe CMD INSTALL --build --library=SingleCellSignalR.buildbin-libdir SingleCellSignalR_1.18.0.tar.gz StartedAt: 2025-01-31 09:39:04 -0500 (Fri, 31 Jan 2025) EndedAt: 2025-01-31 09:40:09 -0500 (Fri, 31 Jan 2025) EllapsedTime: 65.0 seconds RetCode: 0 Status: OK PackageFile: SingleCellSignalR_1.18.0.zip PackageFileSize: 6.188 MiB