Package: SingleCellSignalR Version: 1.18.0 Command: /home/biocbuild/bbs-3.20-bioc/R/bin/R CMD INSTALL SingleCellSignalR StartedAt: 2025-01-30 15:55:02 -0500 (Thu, 30 Jan 2025) EndedAt: 2025-01-30 15:55:42 -0500 (Thu, 30 Jan 2025) EllapsedTime: 40.4 seconds RetCode: 0 Status: OK