Package: SingleCellExperiment Version: 1.28.1 Command: /home/biocbuild/R/R/bin/R CMD build --keep-empty-dirs --no-resave-data SingleCellExperiment StartedAt: 2025-01-31 02:46:29 -0000 (Fri, 31 Jan 2025) EndedAt: 2025-01-31 02:47:48 -0000 (Fri, 31 Jan 2025) EllapsedTime: 79.1 seconds RetCode: 0 Status: OK PackageFile: SingleCellExperiment_1.28.1.tar.gz PackageFileSize: 1.131 MiB